BEGIN:VCALENDAR
VERSION:2.0
PRODID:-//U3A Moraira-Teulada - ECPv6.15.20//NONSGML v1.0//EN
CALSCALE:GREGORIAN
METHOD:PUBLISH
X-WR-CALNAME:U3A Moraira-Teulada
X-ORIGINAL-URL:https://www.u3amoraira-teulada.org
X-WR-CALDESC:Events for U3A Moraira-Teulada
REFRESH-INTERVAL;VALUE=DURATION:PT1H
X-Robots-Tag:noindex
X-PUBLISHED-TTL:PT1H
BEGIN:VTIMEZONE
TZID:Europe/Madrid
BEGIN:DAYLIGHT
TZOFFSETFROM:+0100
TZOFFSETTO:+0200
TZNAME:CEST
DTSTART:20230326T010000
END:DAYLIGHT
BEGIN:STANDARD
TZOFFSETFROM:+0200
TZOFFSETTO:+0100
TZNAME:CET
DTSTART:20231029T010000
END:STANDARD
BEGIN:DAYLIGHT
TZOFFSETFROM:+0100
TZOFFSETTO:+0200
TZNAME:CEST
DTSTART:20240331T010000
END:DAYLIGHT
BEGIN:STANDARD
TZOFFSETFROM:+0200
TZOFFSETTO:+0100
TZNAME:CET
DTSTART:20241027T010000
END:STANDARD
BEGIN:DAYLIGHT
TZOFFSETFROM:+0100
TZOFFSETTO:+0200
TZNAME:CEST
DTSTART:20250330T010000
END:DAYLIGHT
BEGIN:STANDARD
TZOFFSETFROM:+0200
TZOFFSETTO:+0100
TZNAME:CET
DTSTART:20251026T010000
END:STANDARD
END:VTIMEZONE
BEGIN:VEVENT
DTSTART;TZID=Europe/Madrid:20241209T103000
DTEND;TZID=Europe/Madrid:20241209T113000
DTSTAMP:20260419T184644
CREATED:20241203T124714Z
LAST-MODIFIED:20241203T124716Z
UID:38743-1733740200-1733743800@www.u3amoraira-teulada.org
SUMMARY:The life and works of David Hockney
DESCRIPTION:Due to a cancellation\, I have decided to repeat this talk\, which I previously gave approximately six years ago\, about my favourite artist\, the lad from Bradford\, David Hockney. \n\n\n\nIt is a remarkable story concerning a man from a very normal background who progresses through life to become one of the best-known artists in the world\, is voted as the most influential British artist of all time by 1\,000 of his fellow artists and who’s art sells for hundreds of millions of pounds. \n\n\n\nInitially his art appears to be quite simple but it is soon seen to be full of detail and each work tells a story. \n\n\n\nDavid is also famous for designing wonderful sets and scenery for major operas around the world. \n\n\n\nHe has recently moved to live in Normandy\, France and his art work there featuring much of the countryside near his home is a delight.
URL:https://www.u3amoraira-teulada.org/event/the-life-and-works-of-david-hockney/
LOCATION:Salón de Actos\, Espai La Senieta\, Ctra. Moraira a Calpe\, 8\, Moraira\, Alicante\, 03724\, Spain
CATEGORIES:Art & History
ATTACH;FMTTYPE=image/jpeg:https://www.u3amoraira-teulada.org/wp-content/uploads/David-Hockney-1.jpg
END:VEVENT
END:VCALENDAR